BEGIN:VCALENDAR
PRODID:-//eluceo/ical//2.0/EN
VERSION:2.0
CALSCALE:GREGORIAN
BEGIN:VEVENT
UID:c25e06f116c175711d10a88b1717dbcc
DTSTAMP:20260419T134342Z
SUMMARY:Vorstellung des mobilen Kinder Palliativ Teams der Kinder und Jugen
 dheilkunde der KABEG Klagenfurt
DESCRIPTION:Webseite: http://www.dermuth.at\nReferenten/innen: Patrizia Lin
 zatti und Dr. Peter Matscheko
URL:https://carinthiaconnect.rotary.at/de/agenda/show/138718
DTSTART;TZID=Europe/Zurich:20250206T190000
DTEND;TZID=Europe/Zurich:20250206T200000
LOCATION:Hotel Dermuth\, Kohldorferstraße 52\, 9020 Klagenfurt am Wörther
 see\, Österreich
CATEGORIES:Rotary
END:VEVENT
BEGIN:VTIMEZONE
TZID:Europe/Zurich
BEGIN:STANDARD
DTSTART:20250206T190000
TZNAME:CET
TZOFFSETTO:+0100
TZOFFSETFROM:+0100
END:STANDARD
END:VTIMEZONE
END:VCALENDAR
